{
 "currentVersion": 10.7,
 "serviceDescription": "Fugro EarthData, Inc collected LiDAR for approximately 714 square miles at 1.0 points per square meter (1.0m GSD) for the PAgis project area covering portions of Pulaski, Perry, Lonoke, Saline and Faulkner Counties AR. Dewberry used proprietary procedures to classify the LAS according to project specifications: 1-Unclassified, 2-Ground, 7-Noise, 9-Water, 10-Ignored Ground, 11-Withheld Points. Dewberry produced 3D breaklines and combined these with the final LiDAR data to produce seamless hydro flattened DEMs for the 199 tiles (10,000 ft x 10,000 ft) that cover the project area.",
 "name": "IMAGE/DEM_5ft_2010_2011",
 "description": "Fugro EarthData, Inc collected LiDAR for approximately 714 square miles at 1.0 points per square meter (1.0m GSD) for the PAgis project area covering portions of Pulaski, Perry, Lonoke, Saline and Faulkner Counties AR. Dewberry used proprietary procedures to classify the LAS according to project specifications: 1-Unclassified, 2-Ground, 7-Noise, 9-Water, 10-Ignored Ground, 11-Withheld Points. Dewberry produced 3D breaklines and combined these with the final LiDAR data to produce seamless hydro flattened DEMs for the 199 tiles (10,000 ft x 10,000 ft) that cover the project area.",
 "extent": {
  "xmin": 1082914.6707877815,
  "ymin": 56463.23361159861,
  "xmax": 1303774.6707877815,
  "ymax": 237273.2336115986,
  "spatialReference": {
   "wkt": "PROJCS[\"NAD_1983_StatePlane_Arkansas_North_FIPS_0301_Feet\",GEOGCS[\"GCS_North_American_1983\",DATUM[\"D_North_American_1983\",SPHEROID[\"GRS_1980\",6378137.0,298.257222101]],PRIMEM[\"Greenwich\",0.0],UNIT[\"Degree\",0.0174532925199433]],PROJECTION[\"Lambert_Conformal_Conic\"],PARAMETER[\"False_Easting\",1312333.333333333],PARAMETER[\"False_Northing\",0.0],PARAMETER[\"Central_Meridian\",-92.0],PARAMETER[\"Standard_Parallel_1\",34.93333333333333],PARAMETER[\"Standard_Parallel_2\",36.23333333333333],PARAMETER[\"Latitude_Of_Origin\",34.33333333333334],UNIT[\"Foot_US\",0.3048006096012192]],VERTCS[\"Unknown VCS from ArcInfo Workstation\",VDATUM[\"Unknown\"],PARAMETER[\"Vertical_Shift\",0.0],PARAMETER[\"Direction\",1.0],UNIT[\"Meter\",1.0]]"
  }
 },
 "initialExtent": {
  "xmin": 1082914.6707877815,
  "ymin": 56463.23361159861,
  "xmax": 1303774.6707877815,
  "ymax": 237273.2336115986,
  "spatialReference": {
   "wkt": "PROJCS[\"NAD_1983_StatePlane_Arkansas_North_FIPS_0301_Feet\",GEOGCS[\"GCS_North_American_1983\",DATUM[\"D_North_American_1983\",SPHEROID[\"GRS_1980\",6378137.0,298.257222101]],PRIMEM[\"Greenwich\",0.0],UNIT[\"Degree\",0.0174532925199433]],PROJECTION[\"Lambert_Conformal_Conic\"],PARAMETER[\"False_Easting\",1312333.333333333],PARAMETER[\"False_Northing\",0.0],PARAMETER[\"Central_Meridian\",-92.0],PARAMETER[\"Standard_Parallel_1\",34.93333333333333],PARAMETER[\"Standard_Parallel_2\",36.23333333333333],PARAMETER[\"Latitude_Of_Origin\",34.33333333333334],UNIT[\"Foot_US\",0.3048006096012192]],VERTCS[\"Unknown VCS from ArcInfo Workstation\",VDATUM[\"Unknown\"],PARAMETER[\"Vertical_Shift\",0.0],PARAMETER[\"Direction\",1.0],UNIT[\"Meter\",1.0]]"
  }
 },
 "fullExtent": {
  "xmin": 1082914.6707877815,
  "ymin": 56463.23361159861,
  "xmax": 1303774.6707877815,
  "ymax": 237273.2336115986,
  "spatialReference": {
   "wkt": "PROJCS[\"NAD_1983_StatePlane_Arkansas_North_FIPS_0301_Feet\",GEOGCS[\"GCS_North_American_1983\",DATUM[\"D_North_American_1983\",SPHEROID[\"GRS_1980\",6378137.0,298.257222101]],PRIMEM[\"Greenwich\",0.0],UNIT[\"Degree\",0.0174532925199433]],PROJECTION[\"Lambert_Conformal_Conic\"],PARAMETER[\"False_Easting\",1312333.333333333],PARAMETER[\"False_Northing\",0.0],PARAMETER[\"Central_Meridian\",-92.0],PARAMETER[\"Standard_Parallel_1\",34.93333333333333],PARAMETER[\"Standard_Parallel_2\",36.23333333333333],PARAMETER[\"Latitude_Of_Origin\",34.33333333333334],UNIT[\"Foot_US\",0.3048006096012192]],VERTCS[\"Unknown VCS from ArcInfo Workstation\",VDATUM[\"Unknown\"],PARAMETER[\"Vertical_Shift\",0.0],PARAMETER[\"Direction\",1.0],UNIT[\"Meter\",1.0]]"
  }
 },
 "heightModelInfo": {
  "heightModel": "gravity_related_height",
  "vertCRS": "Unknown VCS from ArcInfo Workstation",
  "heightUnit": "meter"
 },
 "pixelSizeX": 5,
 "pixelSizeY": 5,
 "bandCount": 1,
 "pixelType": "F32",
 "minPixelSize": 0,
 "maxPixelSize": 0,
 "copyrightText": "",
 "serviceDataType": "esriImageServiceDataTypeGeneric",
 "minValues": [
  162.37777709960938
 ],
 "maxValues": [
  1109.4639892578125
 ],
 "meanValues": [
  346.4003396960878
 ],
 "stdvValues": [
  135.53672540254718
 ],
 "objectIdField": "",
 "fields": [],
 "capabilities": "Image,Metadata,Mensuration",
 "defaultMosaicMethod": "Center",
 "allowedMosaicMethods": "",
 "sortField": "",
 "sortValue": null,
 "mosaicOperator": "First",
 "defaultCompressionQuality": 75,
 "defaultResamplingMethod": "Bilinear",
 "maxImageHeight": 4100,
 "maxImageWidth": 15000,
 "allowRasterFunction": true,
 "rasterFunctionInfos": [
  {
   "name": "None",
   "description": "",
   "help": ""
  }
 ],
 "rasterTypeInfos": [
  {
   "name": "Raster Dataset",
   "description": "Supports all ArcGIS Raster Datasets",
   "help": ""
  }
 ],
 "mensurationCapabilities": "Basic",
 "hasHistograms": true,
 "hasColormap": false,
 "hasRasterAttributeTable": false,
 "minScale": 0,
 "maxScale": 0,
 "exportTilesAllowed": false,
 "hasMultidimensions": false,
 "supportsStatistics": false,
 "supportsAdvancedQueries": false,
 "editFieldsInfo": null,
 "ownershipBasedAccessControlForRasters": null,
 "allowComputeTiePoints": false,
 "useStandardizedQueries": true,
 "advancedQueryCapabilities": {
  "useStandardizedQueries": true,
  "supportsStatistics": false,
  "supportsOrderBy": false,
  "supportsDistinct": false,
  "supportsPagination": false
 },
 "spatialReference": {
  "wkt": "PROJCS[\"NAD_1983_StatePlane_Arkansas_North_FIPS_0301_Feet\",GEOGCS[\"GCS_North_American_1983\",DATUM[\"D_North_American_1983\",SPHEROID[\"GRS_1980\",6378137.0,298.257222101]],PRIMEM[\"Greenwich\",0.0],UNIT[\"Degree\",0.0174532925199433]],PROJECTION[\"Lambert_Conformal_Conic\"],PARAMETER[\"False_Easting\",1312333.333333333],PARAMETER[\"False_Northing\",0.0],PARAMETER[\"Central_Meridian\",-92.0],PARAMETER[\"Standard_Parallel_1\",34.93333333333333],PARAMETER[\"Standard_Parallel_2\",36.23333333333333],PARAMETER[\"Latitude_Of_Origin\",34.33333333333334],UNIT[\"Foot_US\",0.3048006096012192]],VERTCS[\"Unknown VCS from ArcInfo Workstation\",VDATUM[\"Unknown\"],PARAMETER[\"Vertical_Shift\",0.0],PARAMETER[\"Direction\",1.0],UNIT[\"Meter\",1.0]]"
 }
}
