{
 "currentVersion": 10.7,
 "serviceDescription": "IMAGE/WaterPressureCalculation",
 "name": "IMAGE/WaterPressureCalculation",
 "description": "",
 "extent": {
  "xmin": 1082914.6707877815,
  "ymin": 75200,
  "xmax": 1290004.6707877815,
  "ymax": 237270,
  "spatialReference": {
   "wkid": 102651,
   "latestWkid": 3433
  }
 },
 "initialExtent": {
  "xmin": 1082914.6707877815,
  "ymin": 75200,
  "xmax": 1290004.6707877815,
  "ymax": 237270,
  "spatialReference": {
   "wkid": 102651,
   "latestWkid": 3433
  }
 },
 "fullExtent": {
  "xmin": 1082914.6707877815,
  "ymin": 75200,
  "xmax": 1290004.6707877815,
  "ymax": 237270,
  "spatialReference": {
   "wkid": 102651,
   "latestWkid": 3433
  }
 },
 "pixelSizeX": 10,
 "pixelSizeY": 10,
 "bandCount": 1,
 "pixelType": "S32",
 "minPixelSize": 0,
 "maxPixelSize": 0,
 "copyrightText": "",
 "serviceDataType": "esriImageServiceDataTypeGeneric",
 "minValues": [
  1
 ],
 "maxValues": [
  7407
 ],
 "meanValues": [
  3580.196744637745
 ],
 "stdvValues": [
  1755.6262261397058
 ],
 "objectIdField": "",
 "fields": [],
 "capabilities": "Image,Mensuration,Metadata",
 "defaultMosaicMethod": "Center",
 "allowedMosaicMethods": "",
 "sortField": "",
 "sortValue": null,
 "mosaicOperator": "First",
 "defaultCompressionQuality": 75,
 "defaultResamplingMethod": "Bilinear",
 "maxImageHeight": 4100,
 "maxImageWidth": 15000,
 "allowRasterFunction": true,
 "rasterFunctionInfos": [
  {
   "name": "None",
   "description": "",
   "help": ""
  }
 ],
 "rasterTypeInfos": [
  {
   "name": "Raster Dataset",
   "description": "Supports all ArcGIS Raster Datasets",
   "help": ""
  }
 ],
 "mensurationCapabilities": "Basic",
 "hasHistograms": true,
 "hasColormap": false,
 "hasRasterAttributeTable": true,
 "minScale": 0,
 "maxScale": 0,
 "exportTilesAllowed": false,
 "hasMultidimensions": false,
 "supportsStatistics": false,
 "supportsAdvancedQueries": false,
 "editFieldsInfo": null,
 "ownershipBasedAccessControlForRasters": null,
 "allowComputeTiePoints": false,
 "useStandardizedQueries": true,
 "advancedQueryCapabilities": {
  "useStandardizedQueries": true,
  "supportsStatistics": false,
  "supportsOrderBy": false,
  "supportsDistinct": false,
  "supportsPagination": false
 },
 "spatialReference": {
  "wkid": 102651,
  "latestWkid": 3433
 }
}
