View In:
ArcGIS JavaScript
ArcGIS Online Map Viewer
ArcGIS Earth
ArcMap
View Footprint In:
ArcGIS Online Map Viewer
Service Description: Fugro EarthData, Inc collected LiDAR for approximately 714 square miles at 1.0 points per square meter (1.0m GSD) for the PAgis project area covering portions of Pulaski, Perry, Lonoke, Saline and Faulkner Counties AR. Dewberry used proprietary procedures to classify the LAS according to project specifications: 1-Unclassified, 2-Ground, 7-Noise, 9-Water, 10-Ignored Ground, 11-Withheld Points. Dewberry produced 3D breaklines and combined these with the final LiDAR data to produce seamless hydro flattened DEMs for the 199 tiles (10,000 ft x 10,000 ft) that cover the project area.
Name: IMAGE/DEM_5ft_2010_2011
Description: Fugro EarthData, Inc collected LiDAR for approximately 714 square miles at 1.0 points per square meter (1.0m GSD) for the PAgis project area covering portions of Pulaski, Perry, Lonoke, Saline and Faulkner Counties AR. Dewberry used proprietary procedures to classify the LAS according to project specifications: 1-Unclassified, 2-Ground, 7-Noise, 9-Water, 10-Ignored Ground, 11-Withheld Points. Dewberry produced 3D breaklines and combined these with the final LiDAR data to produce seamless hydro flattened DEMs for the 199 tiles (10,000 ft x 10,000 ft) that cover the project area.
Single Fused Map Cache: false
Extent:
XMin: 1082914.6707877815
YMin: 56463.23361159861
XMax: 1303774.6707877815
YMax: 237273.2336115986
Spatial Reference: PROJCS["NAD_1983_StatePlane_Arkansas_North_FIPS_0301_Feet",GEOGCS["GCS_North_American_1983",DATUM["D_North_American_1983",SPHEROID["GRS_1980",6378137.0,298.257222101]],PRIMEM["Greenwich",0.0],UNIT["Degree",0.0174532925199433]],PROJECTION["Lambert_Conformal_Conic"],PARAMETER["False_Easting",1312333.333333333],PARAMETER["False_Northing",0.0],PARAMETER["Central_Meridian",-92.0],PARAMETER["Standard_Parallel_1",34.93333333333333],PARAMETER["Standard_Parallel_2",36.23333333333333],PARAMETER["Latitude_Of_Origin",34.33333333333334],UNIT["Foot_US",0.3048006096012192]],VERTCS["Unknown VCS from ArcInfo Workstation",VDATUM["Unknown"],PARAMETER["Vertical_Shift",0.0],PARAMETER["Direction",1.0],UNIT["Meter",1.0]]
Initial Extent:
XMin: 1082914.6707877815
YMin: 56463.23361159861
XMax: 1303774.6707877815
YMax: 237273.2336115986
Spatial Reference: PROJCS["NAD_1983_StatePlane_Arkansas_North_FIPS_0301_Feet",GEOGCS["GCS_North_American_1983",DATUM["D_North_American_1983",SPHEROID["GRS_1980",6378137.0,298.257222101]],PRIMEM["Greenwich",0.0],UNIT["Degree",0.0174532925199433]],PROJECTION["Lambert_Conformal_Conic"],PARAMETER["False_Easting",1312333.333333333],PARAMETER["False_Northing",0.0],PARAMETER["Central_Meridian",-92.0],PARAMETER["Standard_Parallel_1",34.93333333333333],PARAMETER["Standard_Parallel_2",36.23333333333333],PARAMETER["Latitude_Of_Origin",34.33333333333334],UNIT["Foot_US",0.3048006096012192]],VERTCS["Unknown VCS from ArcInfo Workstation",VDATUM["Unknown"],PARAMETER["Vertical_Shift",0.0],PARAMETER["Direction",1.0],UNIT["Meter",1.0]]
Full Extent:
XMin: 1082914.6707877815
YMin: 56463.23361159861
XMax: 1303774.6707877815
YMax: 237273.2336115986
Spatial Reference: PROJCS["NAD_1983_StatePlane_Arkansas_North_FIPS_0301_Feet",GEOGCS["GCS_North_American_1983",DATUM["D_North_American_1983",SPHEROID["GRS_1980",6378137.0,298.257222101]],PRIMEM["Greenwich",0.0],UNIT["Degree",0.0174532925199433]],PROJECTION["Lambert_Conformal_Conic"],PARAMETER["False_Easting",1312333.333333333],PARAMETER["False_Northing",0.0],PARAMETER["Central_Meridian",-92.0],PARAMETER["Standard_Parallel_1",34.93333333333333],PARAMETER["Standard_Parallel_2",36.23333333333333],PARAMETER["Latitude_Of_Origin",34.33333333333334],UNIT["Foot_US",0.3048006096012192]],VERTCS["Unknown VCS from ArcInfo Workstation",VDATUM["Unknown"],PARAMETER["Vertical_Shift",0.0],PARAMETER["Direction",1.0],UNIT["Meter",1.0]]
Pixel Size X: 5.0
Pixel Size Y: 5.0
Band Count: 1
Pixel Type: F32
RasterFunction Infos: {"rasterFunctionInfos": [{
"name": "None",
"description": "",
"help": ""
}]}
Mensuration Capabilities: Basic
Has Histograms: true
Has Colormap: false
Has Multi Dimensions : false
Rendering Rule:
Min Scale: 0
Max Scale: 0
Copyright Text:
Service Data Type: esriImageServiceDataTypeGeneric
Min Values: 162.37777709960938
Max Values: 1109.4639892578125
Mean Values: 346.4003396960878
Standard Deviation Values: 135.53672540254718
Object ID Field:
Fields:
None
Default Mosaic Method: Center
Allowed Mosaic Methods:
SortField:
SortValue: null
Mosaic Operator: First
Default Compression Quality: 75
Default Resampling Method: Bilinear
Max Record Count: null
Max Image Height: 4100
Max Image Width: 15000
Max Download Image Count: null
Max Mosaic Image Count: null
Allow Raster Function: true
Allow Compute TiePoints: false
Supports Statistics: false
Supports Advanced Queries: false
Use StandardizedQueries: true
Raster Type Infos:
Name: Raster Dataset
Description: Supports all ArcGIS Raster Datasets
Help:
Has Raster Attribute Table: false
Edit Fields Info: null
Ownership Based AccessControl For Rasters: null
Child Resources:
Info
Histograms
Key Properties
Legend
MultiDimensionalInfo
rasterFunctionInfos
Supported Operations:
Export Image
Identify
Measure
Compute Histograms
Compute Statistics Histograms
Get Samples
Compute Class Statistics
Query Boundary
Compute Pixel Location